BEGIN:VCALENDAR
VERSION:2.0
PRODID:-//Turismo de La Rambla - ECPv4.6.25//NONSGML v1.0//EN
CALSCALE:GREGORIAN
METHOD:PUBLISH
X-WR-CALNAME:Turismo de La Rambla
X-ORIGINAL-URL:https://www.turismodelarambla.es
X-WR-CALDESC:Eventos para Turismo de La Rambla
BEGIN:VEVENT
DTSTART;VALUE=DATE:20230608
DTEND;VALUE=DATE:20230609
DTSTAMP:20260419T152710
CREATED:20230516T115828Z
LAST-MODIFIED:20230516T115828Z
UID:2640-1686182400-1686268799@www.turismodelarambla.es
SUMMARY:Audición alumnos Escuela Municipal de Música de La Rambla
DESCRIPTION: \n
URL:https://www.turismodelarambla.es/evento/audicion-alumnos-escuela-municipal-musica-la-rambla/
LOCATION:Casa de la Cultura
END:VEVENT
BEGIN:VEVENT
DTSTART;VALUE=DATE:20230608
DTEND;VALUE=DATE:20230609
DTSTAMP:20260419T152710
CREATED:20230603T081608Z
LAST-MODIFIED:20230603T081608Z
UID:2679-1686182400-1686268799@www.turismodelarambla.es
SUMMARY:Fiesta de Regla
DESCRIPTION: \n
URL:https://www.turismodelarambla.es/evento/fiesta-de-regla/
LOCATION:Ermita del Calvario\, Calle Calvario\, La Rambla\, Córdoba\, 14540
END:VEVENT
END:VCALENDAR