BEGIN:VCALENDAR
VERSION:2.0
PRODID:-//Turismo de La Rambla - ECPv4.6.25//NONSGML v1.0//EN
CALSCALE:GREGORIAN
METHOD:PUBLISH
X-WR-CALNAME:Turismo de La Rambla
X-ORIGINAL-URL:https://www.turismodelarambla.es
X-WR-CALDESC:Eventos para Turismo de La Rambla
BEGIN:VEVENT
DTSTART;VALUE=DATE:20230626
DTEND;VALUE=DATE:20230701
DTSTAMP:20260420T220511
CREATED:20230309T080352Z
LAST-MODIFIED:20230309T080352Z
UID:2382-1687737600-1688169599@www.turismodelarambla.es
SUMMARY:Campus La Rambla (Verano) - Antonio Casas
DESCRIPTION: \n
URL:https://www.turismodelarambla.es/evento/campus-la-rambla-verano-antonio-casas/
END:VEVENT
END:VCALENDAR