BEGIN:VCALENDAR
VERSION:2.0
PRODID:-//Turismo de La Rambla - ECPv4.6.25//NONSGML v1.0//EN
CALSCALE:GREGORIAN
METHOD:PUBLISH
X-WR-CALNAME:Turismo de La Rambla
X-ORIGINAL-URL:https://www.turismodelarambla.es
X-WR-CALDESC:Eventos para Turismo de La Rambla
BEGIN:VEVENT
DTSTART;TZID=Europe/Madrid:20190310T120000
DTEND;TZID=Europe/Madrid:20190310T170000
DTSTAMP:20260422T010626
CREATED:20190218T180131Z
LAST-MODIFIED:20190218T180156Z
UID:1882-1552219200-1552237200@www.turismodelarambla.es
SUMMARY:CARNAVAL: PASACALLES DE DÍA
DESCRIPTION:Pasacalles de Carnaval con salida a las 12:00h de la Casa de la Cultura. A continuación tendrá lugar la fiesta de carnaval y la entrega de premios que tendrá lugar en la Caseta Municipal de La Rambla. \n
URL:https://www.turismodelarambla.es/evento/carnaval-pasacalles/
LOCATION:Calle Barrios\, Calle Barrios\, La Rambla\, Córdoba\, 14540\, España
ATTACH;FMTTYPE=image/jpeg:https://www.turismodelarambla.es/wp-content/uploads/2019/02/Carnaval.jpg
END:VEVENT
END:VCALENDAR