BEGIN:VCALENDAR
VERSION:2.0
PRODID:-//Turismo de La Rambla - ECPv4.6.25//NONSGML v1.0//EN
CALSCALE:GREGORIAN
METHOD:PUBLISH
X-WR-CALNAME:Turismo de La Rambla
X-ORIGINAL-URL:https://www.turismodelarambla.es
X-WR-CALDESC:Eventos para Turismo de La Rambla
BEGIN:VEVENT
DTSTART;TZID=Europe/Madrid:20190427T200000
DTEND;TZID=Europe/Madrid:20190427T233000
DTSTAMP:20260422T023317
CREATED:20190218T124737Z
LAST-MODIFIED:20190218T174139Z
UID:1860-1556395200-1556407800@www.turismodelarambla.es
SUMMARY:CONCIERTO: Ilegales (Rebelión Tour)
DESCRIPTION:FESTIVAL \nILEGALES \nRebelión Tour \nFecha: 27 abril de 2019 \nLugar: Caseta Municipal de La Rambla (C/Barrios) \nHora: 20:00h \n  \n  \n
URL:https://www.turismodelarambla.es/evento/concierto-ilegales-rebelion-tour/
LOCATION:Calle Barrios\, Calle Barrios\, La Rambla\, Córdoba\, 14540\, España
ATTACH;FMTTYPE=image/jpeg:https://www.turismodelarambla.es/wp-content/uploads/2019/02/Ilegales-27-abril.jpg
END:VEVENT
END:VCALENDAR