BEGIN:VCALENDAR
VERSION:2.0
PRODID:-//Turismo de La Rambla - ECPv4.6.25//NONSGML v1.0//EN
CALSCALE:GREGORIAN
METHOD:PUBLISH
X-WR-CALNAME:Turismo de La Rambla
X-ORIGINAL-URL:https://www.turismodelarambla.es
X-WR-CALDESC:Eventos para Turismo de La Rambla
BEGIN:VEVENT
DTSTART;VALUE=DATE:20211204
DTEND;VALUE=DATE:20211205
DTSTAMP:20260420T144044
CREATED:20211203T084125Z
LAST-MODIFIED:20211203T084125Z
UID:2213-1638576000-1638662399@www.turismodelarambla.es
SUMMARY:Concierto - presentación "Cocina Aural"
DESCRIPTION:Concierto – presentación «Cocina Aural» \n¿Cómo suena la cocina? ¿Qué vínculos sonoros nos relacionan con el cocinar? ¿Qué es una\nreceta sonora?\n“Cocina Aural” es un proyecto del colectivo Weekend Proms sobre gastronomía y creación\nsonora para personas con discapacidad visual\, y cuenta con el apoyo de Art for Change de\nFundación “la Caixa”. Un proyecto que aúna vanguardia artística y transformación social y que\ndespués de su fase de producción a lo largo de varios meses este año en Lucena\, emprende\nun recorrido por diferentes festivales de arte. Aptitudes\, el encuentro de cultura contemporánea\nAlfonso Ariza de La Rambla\, será la primera parada. Varios de los protagonistas nos visitarán\nel sábado 4 de diciembre en el Salón de Plenos del ayuntamiento a las 17:30 h para contarnos\nsu experiencia en el proyecto\, al mismo tiempo que interpretarán y compartirán en directo\nalgunas de las composiciones realizadas. \nDía: 4 de diciembre de 2021 \nLugar: Salón de Plenos del Ayuntamiento de La Rambla \nHora: 17:30 H. \nENTRADA LIBRE HASTA COMPLETAR AFORO \n
URL:https://www.turismodelarambla.es/evento/concierto-presentacion-cocina-aural/
ATTACH;FMTTYPE=image/jpeg:https://www.turismodelarambla.es/wp-content/uploads/2021/12/COCINA-AURAL_dig.jpg
END:VEVENT
END:VCALENDAR