BEGIN:VCALENDAR
VERSION:2.0
PRODID:-//Turismo de La Rambla - ECPv4.6.25//NONSGML v1.0//EN
CALSCALE:GREGORIAN
METHOD:PUBLISH
X-WR-CALNAME:Turismo de La Rambla
X-ORIGINAL-URL:https://www.turismodelarambla.es
X-WR-CALDESC:Eventos para Turismo de La Rambla
BEGIN:VEVENT
DTSTART;VALUE=DATE:20211216
DTEND;VALUE=DATE:20211217
DTSTAMP:20260420T160936
CREATED:20211211T101044Z
LAST-MODIFIED:20211211T101044Z
UID:2233-1639612800-1639699199@www.turismodelarambla.es
SUMMARY:Cuentacuentos MagiCiencia
DESCRIPTION:Cuentacuentos Magiciencia \nDía: 16 de diciembre de 2021 \nLugar: Casa de la cultura de La Rambla \nHora: 18:00 H. \n  \n
URL:https://www.turismodelarambla.es/evento/cuentacuentos-magiciencia/
ATTACH;FMTTYPE=image/jpeg:https://www.turismodelarambla.es/wp-content/uploads/2021/12/Diseño-sin-título-2.jpg
END:VEVENT
END:VCALENDAR