BEGIN:VCALENDAR
VERSION:2.0
PRODID:-//Turismo de La Rambla - ECPv4.6.25//NONSGML v1.0//EN
CALSCALE:GREGORIAN
METHOD:PUBLISH
X-WR-CALNAME:Turismo de La Rambla
X-ORIGINAL-URL:https://www.turismodelarambla.es
X-WR-CALDESC:Eventos para Turismo de La Rambla
BEGIN:VEVENT
DTSTART;TZID=Europe/Madrid:20190224T200000
DTEND;TZID=Europe/Madrid:20190224T213000
DTSTAMP:20260421T170019
CREATED:20190218T124522Z
LAST-MODIFIED:20190218T125027Z
UID:1858-1551038400-1551043800@www.turismodelarambla.es
SUMMARY:DIVERSO TEATRO
DESCRIPTION:No fumar también mata \nFecha: Días 23 y 24 de febrero de 2019 \nLugar: Casa de la Cultura «Alcalde Diego León». \nHora: 20:00h \n
URL:https://www.turismodelarambla.es/evento/diverso-teatro-2/
ATTACH;FMTTYPE=image/jpeg:https://www.turismodelarambla.es/wp-content/uploads/2019/02/Diverso-teratro-23-y-24-febrero.jpg
END:VEVENT
END:VCALENDAR