BEGIN:VCALENDAR
VERSION:2.0
PRODID:-//Turismo de La Rambla - ECPv4.6.25//NONSGML v1.0//EN
CALSCALE:GREGORIAN
METHOD:PUBLISH
X-WR-CALNAME:Turismo de La Rambla
X-ORIGINAL-URL:https://www.turismodelarambla.es
X-WR-CALDESC:Eventos para Turismo de La Rambla
BEGIN:VEVENT
DTSTART;VALUE=DATE:20170601
DTEND;VALUE=DATE:20170605
DTSTAMP:20260421T032934
CREATED:20170502T141632Z
LAST-MODIFIED:20170502T141632Z
UID:302-1496275200-1496620799@www.turismodelarambla.es
SUMMARY:ENBARRO - Feria de Alfarería y Cerámica de La Rambla
DESCRIPTION:
URL:https://www.turismodelarambla.es/evento/enbarro-feria-alfareria-ceramica-la-rambla/
LOCATION:Recinto ferial La Minilla\, Calle Jardines de Andalucía\, 5\, La Rambla\, Córdoba\, 14540\, España
CATEGORIES:Exposiciones
ATTACH;FMTTYPE=image/png:https://www.turismodelarambla.es/wp-content/uploads/2017/05/ENBARRO.png
END:VEVENT
END:VCALENDAR