BEGIN:VCALENDAR
VERSION:2.0
PRODID:-//Turismo de La Rambla - ECPv4.6.25//NONSGML v1.0//EN
CALSCALE:GREGORIAN
METHOD:PUBLISH
X-WR-CALNAME:Turismo de La Rambla
X-ORIGINAL-URL:https://www.turismodelarambla.es
X-WR-CALDESC:Eventos para Turismo de La Rambla
BEGIN:VEVENT
DTSTART;VALUE=DATE:20211218
DTEND;VALUE=DATE:20211219
DTSTAMP:20260420T210037
CREATED:20211211T095118Z
LAST-MODIFIED:20211211T095118Z
UID:2224-1639785600-1639871999@www.turismodelarambla.es
SUMMARY:Exposición Alfonso Ariza
DESCRIPTION:Exposición Alfonso Ariza \nDía: 18 de diciembre de 2021 \nLugar: Museo de la cerámica de La Rambla \nHora: 13:00 H. \n  \n
URL:https://www.turismodelarambla.es/evento/exposicion-alfonso-ariza/
ATTACH;FMTTYPE=image/jpeg:https://www.turismodelarambla.es/wp-content/uploads/2021/12/AARIZA_dig.jpg
END:VEVENT
END:VCALENDAR