BEGIN:VCALENDAR
VERSION:2.0
PRODID:-//Turismo de La Rambla - ECPv4.6.25//NONSGML v1.0//EN
CALSCALE:GREGORIAN
METHOD:PUBLISH
X-WR-CALNAME:Turismo de La Rambla
X-ORIGINAL-URL:https://www.turismodelarambla.es
X-WR-CALDESC:Eventos para Turismo de La Rambla
BEGIN:VEVENT
DTSTART;VALUE=DATE:20170808
DTEND;VALUE=DATE:20170816
DTSTAMP:20260421T020446
CREATED:20170502T143925Z
LAST-MODIFIED:20170502T143925Z
UID:324-1502150400-1502841599@www.turismodelarambla.es
SUMMARY:Feria y Fiestas de San Lorenzo
DESCRIPTION:
URL:https://www.turismodelarambla.es/evento/feria-y-fiestas-de-san-lorenzo/
LOCATION:Recinto ferial La Minilla\, Calle Jardines de Andalucía\, 5\, La Rambla\, Córdoba\, 14540\, España
CATEGORIES:Fiestas populares
ATTACH;FMTTYPE=image/png:https://www.turismodelarambla.es/wp-content/uploads/2017/05/feria_fiestas_san_lorenzo_rambla.png
END:VEVENT
END:VCALENDAR