BEGIN:VCALENDAR
VERSION:2.0
PRODID:-//Turismo de La Rambla - ECPv4.6.25//NONSGML v1.0//EN
CALSCALE:GREGORIAN
METHOD:PUBLISH
X-WR-CALNAME:Turismo de La Rambla
X-ORIGINAL-URL:https://www.turismodelarambla.es
X-WR-CALDESC:Eventos para Turismo de La Rambla
BEGIN:VEVENT
DTSTART;TZID=Europe/Madrid:20190227T203000
DTEND;TZID=Europe/Madrid:20190227T220000
DTSTAMP:20260421T184342
CREATED:20190222T095826Z
LAST-MODIFIED:20190222T095826Z
UID:1889-1551299400-1551304800@www.turismodelarambla.es
SUMMARY:FESTIVAL DE FLAMENCO
DESCRIPTION:Lugar: Casa de la Cultura «Alcalde Diego León» \nHora: 20:30h \nDía: 27/02/2019 \nAl cante: David Palomar\nA la guitarra: Rafael Rodríguez \nCanción Española: Aurora Varona \n  \n
URL:https://www.turismodelarambla.es/evento/festival-de-flamenco/
ATTACH;FMTTYPE=image/jpeg:https://www.turismodelarambla.es/wp-content/uploads/2019/02/Festival-flamenco.jpg
END:VEVENT
END:VCALENDAR