BEGIN:VCALENDAR
VERSION:2.0
PRODID:-//Turismo de La Rambla - ECPv4.6.25//NONSGML v1.0//EN
CALSCALE:GREGORIAN
METHOD:PUBLISH
X-WR-CALNAME:Turismo de La Rambla
X-ORIGINAL-URL:https://www.turismodelarambla.es
X-WR-CALDESC:Eventos para Turismo de La Rambla
BEGIN:VEVENT
DTSTART;VALUE=DATE:20211021
DTEND;VALUE=DATE:20211022
DTSTAMP:20260420T095053
CREATED:20211016T085503Z
LAST-MODIFIED:20211016T085503Z
UID:2165-1634774400-1634860799@www.turismodelarambla.es
SUMMARY:II Ciclo de Conferencias\, V Centenario Junta de la Ramba (1521-2021)
DESCRIPTION:LA RAMBLA EN LA ÉPOCA DE CARLOS V: ESTRUCTURA SOCIOECONÓMICA DE UNA VILLA DEL REALENGO CORDOBÉS. \nÁNGEL Mª RUIZ GÁLVEZ\, UNIVERSIDAD PABLO DE OLAVIDE (SEVILLA) \nTendrá lugar el jueves 21 de octubre a las 20:00 h. en la Casa de la Cultura. \n  \n
URL:https://www.turismodelarambla.es/evento/ii-ciclo-conferencias-v-centenario-junta-la-ramba-1521-2021/
ATTACH;FMTTYPE=image/jpeg:https://www.turismodelarambla.es/wp-content/uploads/2021/10/Cartel-II-Ciclo-Conferencias-Liga-de-La-Rambla.jpg
END:VEVENT
END:VCALENDAR