BEGIN:VCALENDAR
VERSION:2.0
PRODID:-//Turismo de La Rambla - ECPv4.6.25//NONSGML v1.0//EN
CALSCALE:GREGORIAN
METHOD:PUBLISH
X-WR-CALNAME:Turismo de La Rambla
X-ORIGINAL-URL:https://www.turismodelarambla.es
X-WR-CALDESC:Eventos para Turismo de La Rambla
BEGIN:VEVENT
DTSTART;TZID=Europe/Madrid:20190302T210000
DTEND;TZID=Europe/Madrid:20190302T233000
DTSTAMP:20260421T215131
CREATED:20190218T175635Z
LAST-MODIFIED:20190218T180219Z
UID:1876-1551560400-1551569400@www.turismodelarambla.es
SUMMARY:CARNAVAL: PASACALLES NOCTURNO
DESCRIPTION:Pasacalles con Charanga con salida a las 21:00h de la Plazuela de San Lorenzo. A continuación comenzará la fiesta de disfraces con animación musical que tendrá lugar en las Naves de Cerámica \n
URL:https://www.turismodelarambla.es/evento/pasacalles/
LOCATION:Naves de cerámica\, C/Barrios\, La Rambla\, Córdoba\, 14540\, España
ATTACH;FMTTYPE=image/jpeg:https://www.turismodelarambla.es/wp-content/uploads/2019/02/Carnaval.jpg
END:VEVENT
END:VCALENDAR