BEGIN:VCALENDAR
VERSION:2.0
PRODID:-//Turismo de La Rambla - ECPv4.6.25//NONSGML v1.0//EN
CALSCALE:GREGORIAN
METHOD:PUBLISH
X-WR-CALNAME:Turismo de La Rambla
X-ORIGINAL-URL:https://www.turismodelarambla.es
X-WR-CALDESC:Eventos para Turismo de La Rambla
BEGIN:VEVENT
DTSTART;VALUE=DATE:20211016
DTEND;VALUE=DATE:20211017
DTSTAMP:20260420T144214
CREATED:20211016T083256Z
LAST-MODIFIED:20211016T092953Z
UID:2162-1634342400-1634428799@www.turismodelarambla.es
SUMMARY:Proyección Documental "Voces"\, Jornadas Mujer Rural 2021.
DESCRIPTION: \nPresentación del Documental Voces. \nSábado 16 de octubre a las 20:00 h. en la Casa de la Cultura. \n
URL:https://www.turismodelarambla.es/evento/proyeccion-documental-voces/
ATTACH;FMTTYPE=image/jpeg:https://www.turismodelarambla.es/wp-content/uploads/2021/10/Cartel-Documental-Voces.jpg
END:VEVENT
END:VCALENDAR