BEGIN:VCALENDAR
VERSION:2.0
PRODID:-//Turismo de La Rambla - ECPv4.6.25//NONSGML v1.0//EN
CALSCALE:GREGORIAN
METHOD:PUBLISH
X-WR-CALNAME:Turismo de La Rambla
X-ORIGINAL-URL:https://www.turismodelarambla.es
X-WR-CALDESC:Eventos para Turismo de La Rambla
BEGIN:VEVENT
DTSTART;VALUE=DATE:20170515
DTEND;VALUE=DATE:20170516
DTSTAMP:20260421T050412
CREATED:20170502T143658Z
LAST-MODIFIED:20170502T143658Z
UID:320-1494806400-1494892799@www.turismodelarambla.es
SUMMARY:Romería en honor de San Isidro Labrador
DESCRIPTION:
URL:https://www.turismodelarambla.es/evento/romeria-en-honor-de-san-isidro-labrador/
CATEGORIES:Fiestas populares
ATTACH;FMTTYPE=image/png:https://www.turismodelarambla.es/wp-content/uploads/2017/05/san_isidro_la_rambla.png
END:VEVENT
END:VCALENDAR