BEGIN:VCALENDAR
VERSION:2.0
PRODID:-//Turismo de La Rambla - ECPv4.6.25//NONSGML v1.0//EN
CALSCALE:GREGORIAN
METHOD:PUBLISH
X-WR-CALNAME:Turismo de La Rambla
X-ORIGINAL-URL:https://www.turismodelarambla.es
X-WR-CALDESC:Eventos para Turismo de La Rambla
BEGIN:VEVENT
DTSTART;TZID=Europe/Madrid:20190228T110000
DTEND;TZID=Europe/Madrid:20190228T150000
DTSTAMP:20260421T201528
CREATED:20190218T123838Z
LAST-MODIFIED:20190218T125103Z
UID:1850-1551351600-1551366000@www.turismodelarambla.es
SUMMARY:XXXI MARCHA EN BICICLETA
DESCRIPTION:El Consejo Municipal de Deportes convoca la XXXI edición de la Marcha en Bicicleta con la salida a las 11 h de la Avda. Blas Infante. \nLas inscripciones podrán realizarse hasta las 10:30h del 28 de febrero en el Consejo Municipal de Deportes de La Rambla\,  instando a los participantes ha realizar su solicitud previamente para evitar retrasos en la salida de la marcha. \nAl finalizar\, sobre las 12:30h\, comenzará la fiesta deportiva en la Minilla. \n
URL:https://www.turismodelarambla.es/evento/xxxi-marcha-bicicleta/
ATTACH;FMTTYPE=image/jpeg:https://www.turismodelarambla.es/wp-content/uploads/2019/02/Dia-de-andalucia.jpg
END:VEVENT
END:VCALENDAR